BEGIN:VCALENDAR
VERSION:2.0
PRODID:-// - ECPv6.15.13.1//NONSGML v1.0//EN
CALSCALE:GREGORIAN
METHOD:PUBLISH
X-ORIGINAL-URL:https://coastalbeach.com
X-WR-CALDESC:Events for 
REFRESH-INTERVAL;VALUE=DURATION:PT1H
X-Robots-Tag:noindex
X-PUBLISHED-TTL:PT1H
BEGIN:VTIMEZONE
TZID:UTC
BEGIN:STANDARD
TZOFFSETFROM:+0000
TZOFFSETTO:+0000
TZNAME:UTC
DTSTART:20220101T000000
END:STANDARD
END:VTIMEZONE
BEGIN:VEVENT
DTSTART;TZID=UTC:20230317T080000
DTEND;TZID=UTC:20230319T170000
DTSTAMP:20260422T183351
CREATED:20230208T031548Z
LAST-MODIFIED:20230227T115307Z
UID:236-1679040000-1679245200@coastalbeach.com
SUMMARY:The Wharf Boat & Yacht Show
DESCRIPTION:Come visit you’re favorite boat dealership at this year’s 2023 Wharf Boat Show in beautiful Orange Beach\, AL! We’ll have plenty of boats on-site\, including center consoles and bay boats from Sea Pro and Albury Brothers\, as well as triple toon pontoons from SilverWave and South Bay. We will have a show-stopping twin engine South Bay triple toon in the water available for sea trial. We will also have an Albury Brothers in the water and ready to ride. Our pontoon display will be the show’s largest\, per usual!\nWe will not be beat on price! Gonna be a great venue and a FUN weekend! Come see us!\nCost:\n\nPlatinum Admission (all 3 days) – $25.00 + $2.38 Fee\nSales end on Mar 18\, 2023\n3 Day General Admission Pass for 2023 Boat Show. This ticket will gain you access to the event anytime Friday – Sunday. \nGeneral Admission (1 day) Pre-Purchase – $15.00 + $1.83 Fee\nSales end on Mar 16\, 2023\nGeneral Admission- (1 day) for 2023 Boat Show. *Kids 12 and under enter free \nGeneral Admission (1 day) –  $20.00 + $2.10 Fee\nGeneral Admission- (1 day) for 2023 Boat Show. *Kids 12 and under enter free
URL:https://coastalbeach.com/event/the-wharf-boat-yacht-show-2/
LOCATION:The Warf\, 23101 Canal Road\, Orange Beach\, 36561\, United States
CATEGORIES:Festival
ATTACH;FMTTYPE=image/jpeg:https://coastalbeach.com/wp-content/uploads/2023/02/323776461_2143838506004883_8487740000238110829_n.jpg
ORGANIZER;CN="The Wharf Boat & Yacht Show":MAILTO:chris@cmmmarinas.com
END:VEVENT
END:VCALENDAR