BEGIN:VCALENDAR
VERSION:2.0
PRODID:-// - ECPv6.15.20//NONSGML v1.0//EN
CALSCALE:GREGORIAN
METHOD:PUBLISH
X-ORIGINAL-URL:https://coastalbeach.com
X-WR-CALDESC:Events for 
REFRESH-INTERVAL;VALUE=DURATION:PT1H
X-Robots-Tag:noindex
X-PUBLISHED-TTL:PT1H
BEGIN:VTIMEZONE
TZID:UTC
BEGIN:STANDARD
TZOFFSETFROM:+0000
TZOFFSETTO:+0000
TZNAME:UTC
DTSTART:20220101T000000
END:STANDARD
END:VTIMEZONE
BEGIN:VEVENT
DTSTART;TZID=UTC:20230708T110000
DTEND;TZID=UTC:20230708T170000
DTSTAMP:20260423T232340
CREATED:20230210T123219Z
LAST-MODIFIED:20230210T123219Z
UID:244-1688814000-1688835600@coastalbeach.com
SUMMARY:Blue Angels\, Pensacola Beach Air Show
DESCRIPTION:Red\, White and Blues Week featuring the Pensacola Beach Air Show – July 5-8\, 2023 \nLocals and visitors from all over look forward to the annual Pensacola Beach Air Show held in the summer. The show highlights our hometown heroes — the Blue Angels — the U. S. Navy’s flight demonstration squadron stationed at Forrest Sherman Field aboard Naval Air Station Pensacola. \nThe Blues hold several practice sessions along the beach in the days leading up to the big event on show day.
URL:https://coastalbeach.com/event/blue-angels-pensacola-beach-air-show/
LOCATION:Pensacola Beach\, Pensacola\, FL\, United States
END:VEVENT
BEGIN:VEVENT
DTSTART;TZID=UTC:20240315T080000
DTEND;TZID=UTC:20240317T170000
DTSTAMP:20260423T232340
CREATED:20230208T030959Z
LAST-MODIFIED:20230208T031142Z
UID:230-1710489600-1710694800@coastalbeach.com
SUMMARY:The Wharf Boat & Yacht Show
DESCRIPTION:Come visit you’re favorite boat dealership at this year’s 2023 Wharf Boat Show in beautiful Orange Beach\, AL! We’ll have plenty of boats on-site\, including center consoles and bay boats from Sea Pro and Albury Brothers\, as well as triple toon pontoons from SilverWave and South Bay. We will have a show-stopping twin engine South Bay triple toon in the water available for sea trial. We will also have an Albury Brothers in the water and ready to ride. Our pontoon display will be the show’s largest\, per usual!\nWe will not be beat on price! Gonna be a great venue and a FUN weekend! Come see us!
URL:https://coastalbeach.com/event/the-wharf-boat-yacht-show/
LOCATION:The Warf\, 23101 Canal Road\, Orange Beach\, 36561\, United States
CATEGORIES:Festival
ATTACH;FMTTYPE=image/jpeg:https://coastalbeach.com/wp-content/uploads/2023/02/323776461_2143838506004883_8487740000238110829_n.jpg
END:VEVENT
BEGIN:VEVENT
DTSTART;TZID=UTC:20240315T080000
DTEND;TZID=UTC:20240317T170000
DTSTAMP:20260423T232340
CREATED:20230208T030959Z
LAST-MODIFIED:20230208T031142Z
UID:230-1710489600-1710694800@coastalbeach.com
SUMMARY:The Wharf Boat & Yacht Show
DESCRIPTION:Come visit you’re favorite boat dealership at this year’s 2023 Wharf Boat Show in beautiful Orange Beach\, AL! We’ll have plenty of boats on-site\, including center consoles and bay boats from Sea Pro and Albury Brothers\, as well as triple toon pontoons from SilverWave and South Bay. We will have a show-stopping twin engine South Bay triple toon in the water available for sea trial. We will also have an Albury Brothers in the water and ready to ride. Our pontoon display will be the show’s largest\, per usual!\nWe will not be beat on price! Gonna be a great venue and a FUN weekend! Come see us!
URL:https://coastalbeach.com/event/the-wharf-boat-yacht-show/
LOCATION:The Warf\, 23101 Canal Road\, Orange Beach\, 36561\, United States
CATEGORIES:Festival
ATTACH;FMTTYPE=image/jpeg:https://coastalbeach.com/wp-content/uploads/2023/02/323776461_2143838506004883_8487740000238110829_n.jpg
END:VEVENT
BEGIN:VEVENT
DTSTART;TZID=UTC:20240315T080000
DTEND;TZID=UTC:20240317T170000
DTSTAMP:20260423T232340
CREATED:20230208T030959Z
LAST-MODIFIED:20230208T031142Z
UID:230-1710489600-1710694800@coastalbeach.com
SUMMARY:The Wharf Boat & Yacht Show
DESCRIPTION:Come visit you’re favorite boat dealership at this year’s 2023 Wharf Boat Show in beautiful Orange Beach\, AL! We’ll have plenty of boats on-site\, including center consoles and bay boats from Sea Pro and Albury Brothers\, as well as triple toon pontoons from SilverWave and South Bay. We will have a show-stopping twin engine South Bay triple toon in the water available for sea trial. We will also have an Albury Brothers in the water and ready to ride. Our pontoon display will be the show’s largest\, per usual!\nWe will not be beat on price! Gonna be a great venue and a FUN weekend! Come see us!
URL:https://coastalbeach.com/event/the-wharf-boat-yacht-show/
LOCATION:The Warf\, 23101 Canal Road\, Orange Beach\, 36561\, United States
CATEGORIES:Festival
ATTACH;FMTTYPE=image/jpeg:https://coastalbeach.com/wp-content/uploads/2023/02/323776461_2143838506004883_8487740000238110829_n.jpg
END:VEVENT
BEGIN:VEVENT
DTSTART;TZID=UTC:20240315T080000
DTEND;TZID=UTC:20240317T170000
DTSTAMP:20260423T232340
CREATED:20230208T030959Z
LAST-MODIFIED:20230208T031142Z
UID:230-1710489600-1710694800@coastalbeach.com
SUMMARY:The Wharf Boat & Yacht Show
DESCRIPTION:Come visit you’re favorite boat dealership at this year’s 2023 Wharf Boat Show in beautiful Orange Beach\, AL! We’ll have plenty of boats on-site\, including center consoles and bay boats from Sea Pro and Albury Brothers\, as well as triple toon pontoons from SilverWave and South Bay. We will have a show-stopping twin engine South Bay triple toon in the water available for sea trial. We will also have an Albury Brothers in the water and ready to ride. Our pontoon display will be the show’s largest\, per usual!\nWe will not be beat on price! Gonna be a great venue and a FUN weekend! Come see us!
URL:https://coastalbeach.com/event/the-wharf-boat-yacht-show/
LOCATION:The Warf\, 23101 Canal Road\, Orange Beach\, 36561\, United States
CATEGORIES:Festival
ATTACH;FMTTYPE=image/jpeg:https://coastalbeach.com/wp-content/uploads/2023/02/323776461_2143838506004883_8487740000238110829_n.jpg
END:VEVENT
END:VCALENDAR